BEGIN:VCALENDAR
VERSION:2.0
PRODID:-//jEvents 2.0 for Joomla//EN
CALSCALE:GREGORIAN
METHOD:PUBLISH
BEGIN:VEVENT
UID:0bd0cc232dc83e8cd0d87f7858c9c902
CATEGORIES:Training
CREATED:19700101T010000
SUMMARY:Schnuppertraining für Interessierte
DESCRIPTION:
CONTACT:info@scbreakers.de
DTSTAMP:20260422T112303Z
DTSTART:20211103T170000Z
DTEND:20211103T200000Z
SEQUENCE:0
RRULE:FREQ=MONTHLY;UNTIL=20250701T000000Z;INTERVAL=1;BYDAY=+1WE,+3WE
TRANSP:OPAQUE
END:VEVENT
END:VCALENDAR