BEGIN:VCALENDAR
VERSION:2.0
PRODID:-//jEvents 2.0 for Joomla//EN
CALSCALE:GREGORIAN
METHOD:PUBLISH
BEGIN:VEVENT
UID:1d4c373c38f1fdcbbef32325b2eeb7eb
CATEGORIES:Training
CREATED:19700101T010000
SUMMARY:Jugendtraining
DESCRIPTION:
DTSTAMP:20260423T052120Z
DTSTART:20211103T170000Z
DTEND:20211103T190000Z
SEQUENCE:0
RRULE:FREQ=MONTHLY;UNTIL=20250701T000000Z;INTERVAL=1;BYDAY=+1WE,+3WE
TRANSP:OPAQUE
END:VEVENT
END:VCALENDAR