BEGIN:VCALENDAR
VERSION:2.0
PRODID:-//jEvents 2.0 for Joomla//EN
CALSCALE:GREGORIAN
METHOD:PUBLISH
BEGIN:VEVENT
UID:560555236ff535d4e1a3c629b419b155
CATEGORIES:Friday Night Series
CREATED:19700101T010000
SUMMARY:Fridays Night Turnier
LOCATION:Clubheim
DESCRIPTION:
CONTACT:info@scbreakers.de
X-EXTRAINFO:Anmeldung bis 15 Minuten vor dem Start
DTSTAMP:20260425T211004Z
DTSTART:20211001T170000Z
SEQUENCE:0
RRULE:FREQ=MONTHLY;UNTIL=20220402T000000Z;INTERVAL=1;BYDAY=+1FR
TRANSP:OPAQUE
END:VEVENT
END:VCALENDAR