BEGIN:VCALENDAR
VERSION:2.0
PRODID:-//jEvents 2.0 for Joomla//EN
CALSCALE:GREGORIAN
METHOD:PUBLISH
BEGIN:VEVENT
UID:6c1083a532c8863a3e78c835f4ce8db1
CATEGORIES:Ligabetrieb
CREATED:20211010T105833
SUMMARY:Ober- und Verbandsliga Spieltag
DESCRIPTION:
DTSTAMP:20260425T205440Z
DTSTART:20220109T090000Z
DTEND:20220109T160000Z
SEQUENCE:0
TRANSP:OPAQUE
END:VEVENT
END:VCALENDAR