BEGIN:VCALENDAR
VERSION:2.0
PRODID:-//jEvents 2.0 for Joomla//EN
CALSCALE:GREGORIAN
METHOD:PUBLISH
BEGIN:VEVENT
UID:c2e6b4354600f18b945cee81c78da097
CATEGORIES:Ligabetrieb
CREATED:20211010T105912
SUMMARY:Ober- und Verbandsliga Spieltag
DESCRIPTION:
DTSTAMP:20260425T192015Z
DTSTART:20220130T090000Z
DTEND:20220130T160000Z
SEQUENCE:0
TRANSP:OPAQUE
END:VEVENT
END:VCALENDAR