BEGIN:VCALENDAR
VERSION:2.0
PRODID:-//jEvents 2.0 for Joomla//EN
CALSCALE:GREGORIAN
METHOD:PUBLISH
BEGIN:VEVENT
UID:460d9cd3854a756b7b7d239d543d0fe4
CATEGORIES:Friday Night Series
CREATED:19700101T010000
SUMMARY:Fridays Night Turnier
DESCRIPTION:
DTSTAMP:20260423T073940Z
DTSTART:20220506T170000Z
SEQUENCE:0
RRULE:FREQ=MONTHLY;UNTIL=20250701T000000Z;INTERVAL=1;BYDAY=+1FR
TRANSP:OPAQUE
END:VEVENT
END:VCALENDAR