BEGIN:VCALENDAR
VERSION:2.0
PRODID:-//jEvents 2.0 for Joomla//EN
CALSCALE:GREGORIAN
METHOD:PUBLISH
BEGIN:VEVENT
UID:0bd0cc232dc83e8cd0d87f7858c9c902
CATEGORIES:Training
CREATED:20211010T112213
SUMMARY:Schnuppertraining für Interessierte
DESCRIPTION:
CONTACT:Diese E-Mail-Adresse ist vor Spambots geschützt! Zur Anzeige muss JavaScript eingeschaltet sein!
				document.getElementById('cloaka5cd0008aae802470c14b0665c26da32').innerHTML = '';
				var prefix = '&#109;a' + 'i&#108;' + '&#116;o';
				var path = 'hr' + 'ef' + '=';
				var addya5cd0008aae802470c14b0665c26da32 = '&#105;nf&#111;' + '&#64;';
				addya5cd0008aae802470c14b0665c26da32 = addya5cd0008aae802470c14b0665c26da32 + 'scbr&#101;&#97;k&#101;rs' + '&#46;' + 'd&#101;';
				var addy_texta5cd0008aae802470c14b0665c26da32 = '&#105;nf&#111;' + '&#64;' + 'scbr&#101;&#97;k&#101;rs' + '&#46;' + 'd&#101;';document.getElementById('cloaka5cd0008aae802470c14b0665c26da32').innerHTML += '<a ' + path + '\'' + prefix + ':' + addya5cd0008aae802470c14b0665c26da32 + '\'>'+addy_texta5cd0008aae802470c14b0665c26da32+'';
		
DTSTAMP:20260425T193038Z
DTSTART:20220105T170000Z
DTEND:20220105T200000Z
SEQUENCE:0
TRANSP:OPAQUE
END:VEVENT
END:VCALENDAR