BEGIN:VCALENDAR
VERSION:2.0
PRODID:-//jEvents 2.0 for Joomla//EN
CALSCALE:GREGORIAN
METHOD:PUBLISH
BEGIN:VEVENT
UID:0bd0cc232dc83e8cd0d87f7858c9c902
CATEGORIES:Training
CREATED:20211010T112213
SUMMARY:Schnuppertraining für Interessierte
DESCRIPTION:
CONTACT:Diese E-Mail-Adresse ist vor Spambots geschützt! Zur Anzeige muss JavaScript eingeschaltet sein!
				document.getElementById('cloakbaaac8c25405ef2830555718ed543603').innerHTML = '';
				var prefix = '&#109;a' + 'i&#108;' + '&#116;o';
				var path = 'hr' + 'ef' + '=';
				var addybaaac8c25405ef2830555718ed543603 = '&#105;nf&#111;' + '&#64;';
				addybaaac8c25405ef2830555718ed543603 = addybaaac8c25405ef2830555718ed543603 + 'scbr&#101;&#97;k&#101;rs' + '&#46;' + 'd&#101;';
				var addy_textbaaac8c25405ef2830555718ed543603 = '&#105;nf&#111;' + '&#64;' + 'scbr&#101;&#97;k&#101;rs' + '&#46;' + 'd&#101;';document.getElementById('cloakbaaac8c25405ef2830555718ed543603').innerHTML += '<a ' + path + '\'' + prefix + ':' + addybaaac8c25405ef2830555718ed543603 + '\'>'+addy_textbaaac8c25405ef2830555718ed543603+'';
		
DTSTAMP:20260425T193153Z
DTSTART:20220119T170000Z
DTEND:20220119T200000Z
SEQUENCE:0
TRANSP:OPAQUE
END:VEVENT
END:VCALENDAR