BEGIN:VCALENDAR
VERSION:2.0
PRODID:-//jEvents 2.0 for Joomla//EN
CALSCALE:GREGORIAN
METHOD:PUBLISH
BEGIN:VEVENT
UID:0bd0cc232dc83e8cd0d87f7858c9c902
CATEGORIES:Training
CREATED:20211010T112213
SUMMARY:Schnuppertraining für Interessierte
DESCRIPTION:
CONTACT:Diese E-Mail-Adresse ist vor Spambots geschützt! Zur Anzeige muss JavaScript eingeschaltet sein!
				document.getElementById('cloakc5f8d4de6daebddc884d035f11fc541d').innerHTML = '';
				var prefix = '&#109;a' + 'i&#108;' + '&#116;o';
				var path = 'hr' + 'ef' + '=';
				var addyc5f8d4de6daebddc884d035f11fc541d = '&#105;nf&#111;' + '&#64;';
				addyc5f8d4de6daebddc884d035f11fc541d = addyc5f8d4de6daebddc884d035f11fc541d + 'scbr&#101;&#97;k&#101;rs' + '&#46;' + 'd&#101;';
				var addy_textc5f8d4de6daebddc884d035f11fc541d = '&#105;nf&#111;' + '&#64;' + 'scbr&#101;&#97;k&#101;rs' + '&#46;' + 'd&#101;';document.getElementById('cloakc5f8d4de6daebddc884d035f11fc541d').innerHTML += '<a ' + path + '\'' + prefix + ':' + addyc5f8d4de6daebddc884d035f11fc541d + '\'>'+addy_textc5f8d4de6daebddc884d035f11fc541d+'';
		
DTSTAMP:20260426T001938Z
DTSTART:20230104T170000Z
DTEND:20230104T200000Z
SEQUENCE:0
TRANSP:OPAQUE
END:VEVENT
END:VCALENDAR