BEGIN:VCALENDAR
VERSION:2.0
PRODID:-//jEvents 2.0 for Joomla//EN
CALSCALE:GREGORIAN
METHOD:PUBLISH
BEGIN:VEVENT
UID:0bd0cc232dc83e8cd0d87f7858c9c902
CATEGORIES:Training
CREATED:20211010T112213
SUMMARY:Schnuppertraining für Interessierte
DESCRIPTION:
CONTACT:Diese E-Mail-Adresse ist vor Spambots geschützt! Zur Anzeige muss JavaScript eingeschaltet sein!
				document.getElementById('cloak4a70ba185e674b9d2d856d4385b47eec').innerHTML = '';
				var prefix = '&#109;a' + 'i&#108;' + '&#116;o';
				var path = 'hr' + 'ef' + '=';
				var addy4a70ba185e674b9d2d856d4385b47eec = '&#105;nf&#111;' + '&#64;';
				addy4a70ba185e674b9d2d856d4385b47eec = addy4a70ba185e674b9d2d856d4385b47eec + 'scbr&#101;&#97;k&#101;rs' + '&#46;' + 'd&#101;';
				var addy_text4a70ba185e674b9d2d856d4385b47eec = '&#105;nf&#111;' + '&#64;' + 'scbr&#101;&#97;k&#101;rs' + '&#46;' + 'd&#101;';document.getElementById('cloak4a70ba185e674b9d2d856d4385b47eec').innerHTML += '<a ' + path + '\'' + prefix + ':' + addy4a70ba185e674b9d2d856d4385b47eec + '\'>'+addy_text4a70ba185e674b9d2d856d4385b47eec+'';
		
DTSTAMP:20260425T205400Z
DTSTART:20230315T170000Z
DTEND:20230315T200000Z
SEQUENCE:0
TRANSP:OPAQUE
END:VEVENT
END:VCALENDAR