BEGIN:VCALENDAR
VERSION:2.0
PRODID:-//jEvents 2.0 for Joomla//EN
CALSCALE:GREGORIAN
METHOD:PUBLISH
BEGIN:VEVENT
UID:0bd0cc232dc83e8cd0d87f7858c9c902
CATEGORIES:Training
CREATED:20211010T112213
SUMMARY:Schnuppertraining für Interessierte
DESCRIPTION:
CONTACT:Diese E-Mail-Adresse ist vor Spambots geschützt! Zur Anzeige muss JavaScript eingeschaltet sein!
				document.getElementById('cloak2d10e6086c655090d2c5a5cfecd7c89a').innerHTML = '';
				var prefix = '&#109;a' + 'i&#108;' + '&#116;o';
				var path = 'hr' + 'ef' + '=';
				var addy2d10e6086c655090d2c5a5cfecd7c89a = '&#105;nf&#111;' + '&#64;';
				addy2d10e6086c655090d2c5a5cfecd7c89a = addy2d10e6086c655090d2c5a5cfecd7c89a + 'scbr&#101;&#97;k&#101;rs' + '&#46;' + 'd&#101;';
				var addy_text2d10e6086c655090d2c5a5cfecd7c89a = '&#105;nf&#111;' + '&#64;' + 'scbr&#101;&#97;k&#101;rs' + '&#46;' + 'd&#101;';document.getElementById('cloak2d10e6086c655090d2c5a5cfecd7c89a').innerHTML += '<a ' + path + '\'' + prefix + ':' + addy2d10e6086c655090d2c5a5cfecd7c89a + '\'>'+addy_text2d10e6086c655090d2c5a5cfecd7c89a+'';
		
DTSTAMP:20260425T212256Z
DTSTART:20231018T160000Z
DTEND:20231018T190000Z
SEQUENCE:0
TRANSP:OPAQUE
END:VEVENT
END:VCALENDAR