BEGIN:VCALENDAR
VERSION:2.0
PRODID:-//jEvents 2.0 for Joomla//EN
CALSCALE:GREGORIAN
METHOD:PUBLISH
BEGIN:VEVENT
UID:0bd0cc232dc83e8cd0d87f7858c9c902
CATEGORIES:Training
CREATED:20211010T112213
SUMMARY:Schnuppertraining für Interessierte
DESCRIPTION:
CONTACT:Diese E-Mail-Adresse ist vor Spambots geschützt! Zur Anzeige muss JavaScript eingeschaltet sein!
				document.getElementById('cloak8517ad335429929bb1d6340592eabf39').innerHTML = '';
				var prefix = '&#109;a' + 'i&#108;' + '&#116;o';
				var path = 'hr' + 'ef' + '=';
				var addy8517ad335429929bb1d6340592eabf39 = '&#105;nf&#111;' + '&#64;';
				addy8517ad335429929bb1d6340592eabf39 = addy8517ad335429929bb1d6340592eabf39 + 'scbr&#101;&#97;k&#101;rs' + '&#46;' + 'd&#101;';
				var addy_text8517ad335429929bb1d6340592eabf39 = '&#105;nf&#111;' + '&#64;' + 'scbr&#101;&#97;k&#101;rs' + '&#46;' + 'd&#101;';document.getElementById('cloak8517ad335429929bb1d6340592eabf39').innerHTML += '<a ' + path + '\'' + prefix + ':' + addy8517ad335429929bb1d6340592eabf39 + '\'>'+addy_text8517ad335429929bb1d6340592eabf39+'';
		
DTSTAMP:20260425T225441Z
DTSTART:20231101T170000Z
DTEND:20231101T200000Z
SEQUENCE:0
TRANSP:OPAQUE
END:VEVENT
END:VCALENDAR