BEGIN:VCALENDAR
VERSION:2.0
PRODID:-//jEvents 2.0 for Joomla//EN
CALSCALE:GREGORIAN
METHOD:PUBLISH
BEGIN:VEVENT
UID:0bd0cc232dc83e8cd0d87f7858c9c902
CATEGORIES:Training
CREATED:20211010T112213
SUMMARY:Schnuppertraining für Interessierte
DESCRIPTION:
CONTACT:Diese E-Mail-Adresse ist vor Spambots geschützt! Zur Anzeige muss JavaScript eingeschaltet sein!
				document.getElementById('cloak4e06b28b80a2edb270a2fa2896afb2b1').innerHTML = '';
				var prefix = '&#109;a' + 'i&#108;' + '&#116;o';
				var path = 'hr' + 'ef' + '=';
				var addy4e06b28b80a2edb270a2fa2896afb2b1 = '&#105;nf&#111;' + '&#64;';
				addy4e06b28b80a2edb270a2fa2896afb2b1 = addy4e06b28b80a2edb270a2fa2896afb2b1 + 'scbr&#101;&#97;k&#101;rs' + '&#46;' + 'd&#101;';
				var addy_text4e06b28b80a2edb270a2fa2896afb2b1 = '&#105;nf&#111;' + '&#64;' + 'scbr&#101;&#97;k&#101;rs' + '&#46;' + 'd&#101;';document.getElementById('cloak4e06b28b80a2edb270a2fa2896afb2b1').innerHTML += '<a ' + path + '\'' + prefix + ':' + addy4e06b28b80a2edb270a2fa2896afb2b1 + '\'>'+addy_text4e06b28b80a2edb270a2fa2896afb2b1+'';
		
DTSTAMP:20260426T004226Z
DTSTART:20231115T170000Z
DTEND:20231115T200000Z
SEQUENCE:0
TRANSP:OPAQUE
END:VEVENT
END:VCALENDAR