BEGIN:VCALENDAR
VERSION:2.0
PRODID:-//jEvents 2.0 for Joomla//EN
CALSCALE:GREGORIAN
METHOD:PUBLISH
BEGIN:VEVENT
UID:0bd0cc232dc83e8cd0d87f7858c9c902
CATEGORIES:Training
CREATED:20211010T112213
SUMMARY:Schnuppertraining für Interessierte
DESCRIPTION:
CONTACT:Diese E-Mail-Adresse ist vor Spambots geschützt! Zur Anzeige muss JavaScript eingeschaltet sein!
				document.getElementById('cloak2f799e9d460d45b93ead7908b9f6152b').innerHTML = '';
				var prefix = '&#109;a' + 'i&#108;' + '&#116;o';
				var path = 'hr' + 'ef' + '=';
				var addy2f799e9d460d45b93ead7908b9f6152b = '&#105;nf&#111;' + '&#64;';
				addy2f799e9d460d45b93ead7908b9f6152b = addy2f799e9d460d45b93ead7908b9f6152b + 'scbr&#101;&#97;k&#101;rs' + '&#46;' + 'd&#101;';
				var addy_text2f799e9d460d45b93ead7908b9f6152b = '&#105;nf&#111;' + '&#64;' + 'scbr&#101;&#97;k&#101;rs' + '&#46;' + 'd&#101;';document.getElementById('cloak2f799e9d460d45b93ead7908b9f6152b').innerHTML += '<a ' + path + '\'' + prefix + ':' + addy2f799e9d460d45b93ead7908b9f6152b + '\'>'+addy_text2f799e9d460d45b93ead7908b9f6152b+'';
		
DTSTAMP:20260423T084135Z
DTSTART:20240221T170000Z
DTEND:20240221T200000Z
SEQUENCE:0
TRANSP:OPAQUE
END:VEVENT
END:VCALENDAR