BEGIN:VCALENDAR
VERSION:2.0
PRODID:-//jEvents 2.0 for Joomla//EN
CALSCALE:GREGORIAN
METHOD:PUBLISH
BEGIN:VEVENT
UID:0bd0cc232dc83e8cd0d87f7858c9c902
CATEGORIES:Training
CREATED:20211010T112213
SUMMARY:Schnuppertraining für Interessierte
DESCRIPTION:
CONTACT:Diese E-Mail-Adresse ist vor Spambots geschützt! Zur Anzeige muss JavaScript eingeschaltet sein!
				document.getElementById('cloakfcad29868ff1996f6b5e7a963ceffc1c').innerHTML = '';
				var prefix = '&#109;a' + 'i&#108;' + '&#116;o';
				var path = 'hr' + 'ef' + '=';
				var addyfcad29868ff1996f6b5e7a963ceffc1c = '&#105;nf&#111;' + '&#64;';
				addyfcad29868ff1996f6b5e7a963ceffc1c = addyfcad29868ff1996f6b5e7a963ceffc1c + 'scbr&#101;&#97;k&#101;rs' + '&#46;' + 'd&#101;';
				var addy_textfcad29868ff1996f6b5e7a963ceffc1c = '&#105;nf&#111;' + '&#64;' + 'scbr&#101;&#97;k&#101;rs' + '&#46;' + 'd&#101;';document.getElementById('cloakfcad29868ff1996f6b5e7a963ceffc1c').innerHTML += '<a ' + path + '\'' + prefix + ':' + addyfcad29868ff1996f6b5e7a963ceffc1c + '\'>'+addy_textfcad29868ff1996f6b5e7a963ceffc1c+'';
		
DTSTAMP:20260423T040057Z
DTSTART:20240306T170000Z
DTEND:20240306T200000Z
SEQUENCE:0
TRANSP:OPAQUE
END:VEVENT
END:VCALENDAR