BEGIN:VCALENDAR
VERSION:2.0
PRODID:-//jEvents 2.0 for Joomla//EN
CALSCALE:GREGORIAN
METHOD:PUBLISH
BEGIN:VEVENT
UID:0bd0cc232dc83e8cd0d87f7858c9c902
CATEGORIES:Training
CREATED:20211010T112213
SUMMARY:Schnuppertraining für Interessierte
DESCRIPTION:
CONTACT:Diese E-Mail-Adresse ist vor Spambots geschützt! Zur Anzeige muss JavaScript eingeschaltet sein!
				document.getElementById('cloak66ffaf7e052218d385a41a8c270125fc').innerHTML = '';
				var prefix = '&#109;a' + 'i&#108;' + '&#116;o';
				var path = 'hr' + 'ef' + '=';
				var addy66ffaf7e052218d385a41a8c270125fc = '&#105;nf&#111;' + '&#64;';
				addy66ffaf7e052218d385a41a8c270125fc = addy66ffaf7e052218d385a41a8c270125fc + 'scbr&#101;&#97;k&#101;rs' + '&#46;' + 'd&#101;';
				var addy_text66ffaf7e052218d385a41a8c270125fc = '&#105;nf&#111;' + '&#64;' + 'scbr&#101;&#97;k&#101;rs' + '&#46;' + 'd&#101;';document.getElementById('cloak66ffaf7e052218d385a41a8c270125fc').innerHTML += '<a ' + path + '\'' + prefix + ':' + addy66ffaf7e052218d385a41a8c270125fc + '\'>'+addy_text66ffaf7e052218d385a41a8c270125fc+'';
		
DTSTAMP:20260423T053650Z
DTSTART:20240320T170000Z
DTEND:20240320T200000Z
SEQUENCE:0
TRANSP:OPAQUE
END:VEVENT
END:VCALENDAR