BEGIN:VCALENDAR
VERSION:2.0
PRODID:-//jEvents 2.0 for Joomla//EN
CALSCALE:GREGORIAN
METHOD:PUBLISH
BEGIN:VEVENT
UID:0bd0cc232dc83e8cd0d87f7858c9c902
CATEGORIES:Training
CREATED:20211010T112213
SUMMARY:Schnuppertraining für Interessierte
DESCRIPTION:
CONTACT:Diese E-Mail-Adresse ist vor Spambots geschützt! Zur Anzeige muss JavaScript eingeschaltet sein!
				document.getElementById('cloak1dddbb78eb4cd7f8a51c64c4fa35ac64').innerHTML = '';
				var prefix = '&#109;a' + 'i&#108;' + '&#116;o';
				var path = 'hr' + 'ef' + '=';
				var addy1dddbb78eb4cd7f8a51c64c4fa35ac64 = '&#105;nf&#111;' + '&#64;';
				addy1dddbb78eb4cd7f8a51c64c4fa35ac64 = addy1dddbb78eb4cd7f8a51c64c4fa35ac64 + 'scbr&#101;&#97;k&#101;rs' + '&#46;' + 'd&#101;';
				var addy_text1dddbb78eb4cd7f8a51c64c4fa35ac64 = '&#105;nf&#111;' + '&#64;' + 'scbr&#101;&#97;k&#101;rs' + '&#46;' + 'd&#101;';document.getElementById('cloak1dddbb78eb4cd7f8a51c64c4fa35ac64').innerHTML += '<a ' + path + '\'' + prefix + ':' + addy1dddbb78eb4cd7f8a51c64c4fa35ac64 + '\'>'+addy_text1dddbb78eb4cd7f8a51c64c4fa35ac64+'';
		
DTSTAMP:20260425T182046Z
DTSTART:20240515T160000Z
DTEND:20240515T190000Z
SEQUENCE:0
TRANSP:OPAQUE
END:VEVENT
END:VCALENDAR