BEGIN:VCALENDAR
VERSION:2.0
PRODID:-//jEvents 2.0 for Joomla//EN
CALSCALE:GREGORIAN
METHOD:PUBLISH
BEGIN:VEVENT
UID:0bd0cc232dc83e8cd0d87f7858c9c902
CATEGORIES:Training
CREATED:20211010T112213
SUMMARY:Schnuppertraining für Interessierte
DESCRIPTION:
CONTACT:Diese E-Mail-Adresse ist vor Spambots geschützt! Zur Anzeige muss JavaScript eingeschaltet sein!
				document.getElementById('cloak58fc590ea4c11bd273caa675baea92f6').innerHTML = '';
				var prefix = '&#109;a' + 'i&#108;' + '&#116;o';
				var path = 'hr' + 'ef' + '=';
				var addy58fc590ea4c11bd273caa675baea92f6 = '&#105;nf&#111;' + '&#64;';
				addy58fc590ea4c11bd273caa675baea92f6 = addy58fc590ea4c11bd273caa675baea92f6 + 'scbr&#101;&#97;k&#101;rs' + '&#46;' + 'd&#101;';
				var addy_text58fc590ea4c11bd273caa675baea92f6 = '&#105;nf&#111;' + '&#64;' + 'scbr&#101;&#97;k&#101;rs' + '&#46;' + 'd&#101;';document.getElementById('cloak58fc590ea4c11bd273caa675baea92f6').innerHTML += '<a ' + path + '\'' + prefix + ':' + addy58fc590ea4c11bd273caa675baea92f6 + '\'>'+addy_text58fc590ea4c11bd273caa675baea92f6+'';
		
DTSTAMP:20260422T150711Z
DTSTART:20241120T170000Z
DTEND:20241120T200000Z
SEQUENCE:0
TRANSP:OPAQUE
END:VEVENT
END:VCALENDAR