BEGIN:VCALENDAR
VERSION:2.0
PRODID:-//jEvents 2.0 for Joomla//EN
CALSCALE:GREGORIAN
METHOD:PUBLISH
BEGIN:VEVENT
UID:0bd0cc232dc83e8cd0d87f7858c9c902
CATEGORIES:Training
CREATED:20211010T112213
SUMMARY:Schnuppertraining für Interessierte
DESCRIPTION:
CONTACT:Diese E-Mail-Adresse ist vor Spambots geschützt! Zur Anzeige muss JavaScript eingeschaltet sein!
				document.getElementById('cloak5192c07da38beebe055eba1e429d56a6').innerHTML = '';
				var prefix = '&#109;a' + 'i&#108;' + '&#116;o';
				var path = 'hr' + 'ef' + '=';
				var addy5192c07da38beebe055eba1e429d56a6 = '&#105;nf&#111;' + '&#64;';
				addy5192c07da38beebe055eba1e429d56a6 = addy5192c07da38beebe055eba1e429d56a6 + 'scbr&#101;&#97;k&#101;rs' + '&#46;' + 'd&#101;';
				var addy_text5192c07da38beebe055eba1e429d56a6 = '&#105;nf&#111;' + '&#64;' + 'scbr&#101;&#97;k&#101;rs' + '&#46;' + 'd&#101;';document.getElementById('cloak5192c07da38beebe055eba1e429d56a6').innerHTML += '<a ' + path + '\'' + prefix + ':' + addy5192c07da38beebe055eba1e429d56a6 + '\'>'+addy_text5192c07da38beebe055eba1e429d56a6+'';
		
DTSTAMP:20260422T094046Z
DTSTART:20250115T170000Z
DTEND:20250115T200000Z
SEQUENCE:0
TRANSP:OPAQUE
END:VEVENT
END:VCALENDAR