BEGIN:VCALENDAR
VERSION:2.0
PRODID:-//jEvents 2.0 for Joomla//EN
CALSCALE:GREGORIAN
METHOD:PUBLISH
BEGIN:VEVENT
UID:0bd0cc232dc83e8cd0d87f7858c9c902
CATEGORIES:Training
CREATED:20211010T112213
SUMMARY:Schnuppertraining für Interessierte
DESCRIPTION:
CONTACT:Diese E-Mail-Adresse ist vor Spambots geschützt! Zur Anzeige muss JavaScript eingeschaltet sein!
				document.getElementById('cloak05151aa053cfc840d20743a3c09fbcb8').innerHTML = '';
				var prefix = '&#109;a' + 'i&#108;' + '&#116;o';
				var path = 'hr' + 'ef' + '=';
				var addy05151aa053cfc840d20743a3c09fbcb8 = '&#105;nf&#111;' + '&#64;';
				addy05151aa053cfc840d20743a3c09fbcb8 = addy05151aa053cfc840d20743a3c09fbcb8 + 'scbr&#101;&#97;k&#101;rs' + '&#46;' + 'd&#101;';
				var addy_text05151aa053cfc840d20743a3c09fbcb8 = '&#105;nf&#111;' + '&#64;' + 'scbr&#101;&#97;k&#101;rs' + '&#46;' + 'd&#101;';document.getElementById('cloak05151aa053cfc840d20743a3c09fbcb8').innerHTML += '<a ' + path + '\'' + prefix + ':' + addy05151aa053cfc840d20743a3c09fbcb8 + '\'>'+addy_text05151aa053cfc840d20743a3c09fbcb8+'';
		
DTSTAMP:20260424T091452Z
DTSTART:20250416T160000Z
DTEND:20250416T190000Z
SEQUENCE:0
TRANSP:OPAQUE
END:VEVENT
END:VCALENDAR