BEGIN:VCALENDAR
VERSION:2.0
PRODID:-//jEvents 2.0 for Joomla//EN
CALSCALE:GREGORIAN
METHOD:PUBLISH
BEGIN:VEVENT
UID:0bd0cc232dc83e8cd0d87f7858c9c902
CATEGORIES:Training
CREATED:20211010T112213
SUMMARY:Schnuppertraining für Interessierte
DESCRIPTION:
CONTACT:Diese E-Mail-Adresse ist vor Spambots geschützt! Zur Anzeige muss JavaScript eingeschaltet sein!
				document.getElementById('cloak666cf75d80d029fb57663ab1221cde8b').innerHTML = '';
				var prefix = '&#109;a' + 'i&#108;' + '&#116;o';
				var path = 'hr' + 'ef' + '=';
				var addy666cf75d80d029fb57663ab1221cde8b = '&#105;nf&#111;' + '&#64;';
				addy666cf75d80d029fb57663ab1221cde8b = addy666cf75d80d029fb57663ab1221cde8b + 'scbr&#101;&#97;k&#101;rs' + '&#46;' + 'd&#101;';
				var addy_text666cf75d80d029fb57663ab1221cde8b = '&#105;nf&#111;' + '&#64;' + 'scbr&#101;&#97;k&#101;rs' + '&#46;' + 'd&#101;';document.getElementById('cloak666cf75d80d029fb57663ab1221cde8b').innerHTML += '<a ' + path + '\'' + prefix + ':' + addy666cf75d80d029fb57663ab1221cde8b + '\'>'+addy_text666cf75d80d029fb57663ab1221cde8b+'';
		
DTSTAMP:20260423T051037Z
DTSTART:20250604T160000Z
DTEND:20250604T190000Z
SEQUENCE:0
TRANSP:OPAQUE
END:VEVENT
END:VCALENDAR