BEGIN:VCALENDAR
VERSION:2.0
PRODID:-//jEvents 2.0 for Joomla//EN
CALSCALE:GREGORIAN
METHOD:PUBLISH
BEGIN:VEVENT
UID:0bd0cc232dc83e8cd0d87f7858c9c902
CATEGORIES:Training
CREATED:20211010T112213
SUMMARY:Schnuppertraining für Interessierte
DESCRIPTION:
CONTACT:Diese E-Mail-Adresse ist vor Spambots geschützt! Zur Anzeige muss JavaScript eingeschaltet sein!
				document.getElementById('cloak21c33255f25c6f0ea96cf72e609bfbee').innerHTML = '';
				var prefix = '&#109;a' + 'i&#108;' + '&#116;o';
				var path = 'hr' + 'ef' + '=';
				var addy21c33255f25c6f0ea96cf72e609bfbee = '&#105;nf&#111;' + '&#64;';
				addy21c33255f25c6f0ea96cf72e609bfbee = addy21c33255f25c6f0ea96cf72e609bfbee + 'scbr&#101;&#97;k&#101;rs' + '&#46;' + 'd&#101;';
				var addy_text21c33255f25c6f0ea96cf72e609bfbee = '&#105;nf&#111;' + '&#64;' + 'scbr&#101;&#97;k&#101;rs' + '&#46;' + 'd&#101;';document.getElementById('cloak21c33255f25c6f0ea96cf72e609bfbee').innerHTML += '<a ' + path + '\'' + prefix + ':' + addy21c33255f25c6f0ea96cf72e609bfbee + '\'>'+addy_text21c33255f25c6f0ea96cf72e609bfbee+'';
		
DTSTAMP:20260423T064029Z
DTSTART:20250618T160000Z
DTEND:20250618T190000Z
SEQUENCE:0
TRANSP:OPAQUE
END:VEVENT
END:VCALENDAR