BEGIN:VCALENDAR
VERSION:2.0
PRODID:-//jEvents 2.0 for Joomla//EN
CALSCALE:GREGORIAN
METHOD:PUBLISH
BEGIN:VEVENT
UID:1d4c373c38f1fdcbbef32325b2eeb7eb
CATEGORIES:Training
CREATED:20211010T112036
SUMMARY:Jugendtraining
DESCRIPTION:
DTSTAMP:20260422T225713Z
DTSTART:20240117T170000Z
DTEND:20240117T190000Z
SEQUENCE:0
TRANSP:OPAQUE
END:VEVENT
END:VCALENDAR