BEGIN:VCALENDAR
VERSION:2.0
PRODID:-//jEvents 2.0 for Joomla//EN
CALSCALE:GREGORIAN
METHOD:PUBLISH
BEGIN:VEVENT
UID:560555236ff535d4e1a3c629b419b155
CATEGORIES:Friday Night Series
CREATED:20200108T123334
SUMMARY:Fridays Night Turnier
LOCATION:Clubheim
DESCRIPTION:
CONTACT:Diese E-Mail-Adresse ist vor Spambots geschützt! Zur Anzeige muss JavaScript eingeschaltet sein!
				document.getElementById('cloak9c9ea43046174fe8b8e70cf29d5c4428').innerHTML = '';
				var prefix = '&#109;a' + 'i&#108;' + '&#116;o';
				var path = 'hr' + 'ef' + '=';
				var addy9c9ea43046174fe8b8e70cf29d5c4428 = '&#105;nf&#111;' + '&#64;';
				addy9c9ea43046174fe8b8e70cf29d5c4428 = addy9c9ea43046174fe8b8e70cf29d5c4428 + 'scbr&#101;&#97;k&#101;rs' + '&#46;' + 'd&#101;';
				var addy_text9c9ea43046174fe8b8e70cf29d5c4428 = '&#105;nf&#111;' + '&#64;' + 'scbr&#101;&#97;k&#101;rs' + '&#46;' + 'd&#101;';document.getElementById('cloak9c9ea43046174fe8b8e70cf29d5c4428').innerHTML += '<a ' + path + '\'' + prefix + ':' + addy9c9ea43046174fe8b8e70cf29d5c4428 + '\'>'+addy_text9c9ea43046174fe8b8e70cf29d5c4428+'';
		
X-EXTRAINFO:Anmeldung bis 15 Minuten vor dem Start
DTSTAMP:20260425T210957Z
DTSTART:20220107T180000Z
SEQUENCE:0
TRANSP:OPAQUE
END:VEVENT
END:VCALENDAR