BEGIN:VCALENDAR
VERSION:2.0
PRODID:-//jEvents 2.0 for Joomla//EN
CALSCALE:GREGORIAN
METHOD:PUBLISH
BEGIN:VEVENT
UID:a79b5d6af3c14abd072aa0d3621f9583
CATEGORIES:Friday Night Series
CREATED:20211010T112422
SUMMARY:Fridays Night Ü40
DESCRIPTION:
DTSTAMP:20260423T101547Z
DTSTART:20250620T170000Z
SEQUENCE:0
TRANSP:OPAQUE
END:VEVENT
END:VCALENDAR