BEGIN:VCALENDAR
VERSION:2.0
PRODID:-//jEvents 2.0 for Joomla//EN
CALSCALE:GREGORIAN
METHOD:PUBLISH
BEGIN:VEVENT
UID:460d9cd3854a756b7b7d239d543d0fe4
CATEGORIES:Friday Night Series
CREATED:20220501T155446
SUMMARY:Fridays Night Turnier
DESCRIPTION:
DTSTAMP:20260423T073914Z
DTSTART:20240503T170000Z
SEQUENCE:0
TRANSP:OPAQUE
END:VEVENT
END:VCALENDAR